BEGIN:VCALENDAR
VERSION:2.0
PRODID:-//City of Flint Hill, MO - ECPv6.15.20//NONSGML v1.0//EN
CALSCALE:GREGORIAN
METHOD:PUBLISH
X-WR-CALNAME:City of Flint Hill, MO
X-ORIGINAL-URL:https://cityofflinthill.com
X-WR-CALDESC:Events for City of Flint Hill, MO
REFRESH-INTERVAL;VALUE=DURATION:PT1H
X-Robots-Tag:noindex
X-PUBLISHED-TTL:PT1H
BEGIN:VTIMEZONE
TZID:America/Chicago
BEGIN:DAYLIGHT
TZOFFSETFROM:-0600
TZOFFSETTO:-0500
TZNAME:CDT
DTSTART:20230312T080000
END:DAYLIGHT
BEGIN:STANDARD
TZOFFSETFROM:-0500
TZOFFSETTO:-0600
TZNAME:CST
DTSTART:20231105T070000
END:STANDARD
BEGIN:DAYLIGHT
TZOFFSETFROM:-0600
TZOFFSETTO:-0500
TZNAME:CDT
DTSTART:20240310T080000
END:DAYLIGHT
BEGIN:STANDARD
TZOFFSETFROM:-0500
TZOFFSETTO:-0600
TZNAME:CST
DTSTART:20241103T070000
END:STANDARD
BEGIN:DAYLIGHT
TZOFFSETFROM:-0600
TZOFFSETTO:-0500
TZNAME:CDT
DTSTART:20250309T080000
END:DAYLIGHT
BEGIN:STANDARD
TZOFFSETFROM:-0500
TZOFFSETTO:-0600
TZNAME:CST
DTSTART:20251102T070000
END:STANDARD
BEGIN:DAYLIGHT
TZOFFSETFROM:-0600
TZOFFSETTO:-0500
TZNAME:CDT
DTSTART:20260308T080000
END:DAYLIGHT
BEGIN:STANDARD
TZOFFSETFROM:-0500
TZOFFSETTO:-0600
TZNAME:CST
DTSTART:20261101T070000
END:STANDARD
BEGIN:DAYLIGHT
TZOFFSETFROM:-0600
TZOFFSETTO:-0500
TZNAME:CDT
DTSTART:20270314T080000
END:DAYLIGHT
BEGIN:STANDARD
TZOFFSETFROM:-0500
TZOFFSETTO:-0600
TZNAME:CST
DTSTART:20271107T070000
END:STANDARD
END:VTIMEZONE
BEGIN:VEVENT
DTSTART;VALUE=DATE:20241128
DTEND;VALUE=DATE:20241129
DTSTAMP:20260425T101502
CREATED:20240306T200657Z
LAST-MODIFIED:20240306T200657Z
UID:1685-1732752000-1732838399@cityofflinthill.com
SUMMARY:Thanksgiving Day
DESCRIPTION:Office closed – Thanksgiving
URL:https://cityofflinthill.com/event/thanksgiving-day-2/
CATEGORIES:Holiday
END:VEVENT
BEGIN:VEVENT
DTSTART;VALUE=DATE:20241129
DTEND;VALUE=DATE:20241130
DTSTAMP:20260425T101502
CREATED:20240306T200900Z
LAST-MODIFIED:20240306T200900Z
UID:1687-1732838400-1732924799@cityofflinthill.com
SUMMARY:Thanksgiving Break
DESCRIPTION:Office closed – Thanksgiving Weekend
URL:https://cityofflinthill.com/event/thanksgiving-break-2/
CATEGORIES:Holiday
END:VEVENT
BEGIN:VEVENT
DTSTART;VALUE=DATE:20241225
DTEND;VALUE=DATE:20241226
DTSTAMP:20260425T101502
CREATED:20240306T201053Z
LAST-MODIFIED:20240306T201053Z
UID:1689-1735084800-1735171199@cityofflinthill.com
SUMMARY:Christmas
DESCRIPTION:Office Closed – Christmas
URL:https://cityofflinthill.com/event/christmas-2/
CATEGORIES:Holiday
END:VEVENT
BEGIN:VEVENT
DTSTART;VALUE=DATE:20250101
DTEND;VALUE=DATE:20250102
DTSTAMP:20260425T101502
CREATED:20240306T201146Z
LAST-MODIFIED:20240530T183420Z
UID:1690-1735689600-1735775999@cityofflinthill.com
SUMMARY:New Years Day
DESCRIPTION:Office closed – New Years
URL:https://cityofflinthill.com/event/new-years-day-2-2/
CATEGORIES:Holiday
END:VEVENT
BEGIN:VEVENT
DTSTART;TZID=America/Chicago:20250406T113000
DTEND;TZID=America/Chicago:20250406T140000
DTSTAMP:20260425T101502
CREATED:20250205T164902Z
LAST-MODIFIED:20250205T165125Z
UID:2171-1743939000-1743948000@cityofflinthill.com
SUMMARY:City of Flint Hill Spring Fling
DESCRIPTION:City of Flint Hill Annual Spring Fling \nApril 6\, 2025 11:30am – 2:00pm \nEaster Egg Hunts\, Photos with the Easter Bunny\, Crafts\, and More \nHill Flint Hill – St. Theodore Knights of Columbus Hall
URL:https://cityofflinthill.com/event/city-of-flint-hill-spring-fling/
LOCATION:Knight of Columbus\, 2061 Grothe Rd\, Flint Hill\, MO\, 63346\, United States
CATEGORIES:Holiday
ATTACH;FMTTYPE=application/pdf:https://cityofflinthill.com/wp-content/uploads/Flint-Hill-2025-Events-1920-x-1080-px-4.pdf
END:VEVENT
BEGIN:VEVENT
DTSTART;TZID=America/Chicago:20260322T113000
DTEND;TZID=America/Chicago:20260322T140000
DTSTAMP:20260425T101502
CREATED:20260308T161037Z
LAST-MODIFIED:20260310T171653Z
UID:2536-1774179000-1774188000@cityofflinthill.com
SUMMARY:Spring Fling 2026
DESCRIPTION:City of Flint Hill – Spring Fling (March 22)Join the City of Flint Hill for the annual Spring Fling on Sunday\, March 22 from 11:30 a.m. to 2:00 p.m. at the Flint Hill – St. Theodore Knights of Columbus Hall (2061 Grothe Road\, Flint Hill). Families can enjoy Easter egg hunts\, photos with the Easter Bunny\, face painting\, crafts\, and more. Easter Egg Hunt Schedule Follow the City of Flint Hill on Facebook and Instagram for updates and event information.
URL:https://cityofflinthill.com/event/spring-fling-2026/
CATEGORIES:Holiday
ATTACH;FMTTYPE=image/jpeg:https://cityofflinthill.com/wp-content/uploads/Flint-Hill-Easter-Egg-Hunt-2028-8.5-x11-125-x-125-px-75-x-40-px-1.jpg
END:VEVENT
END:VCALENDAR